BEGIN:VCALENDAR
METHOD:PUBLISH
PRODID:-//Weblication CMS
VERSION:2.0
BEGIN:VEVENT
SUMMARY:vhs 9428 Auffrischungskurs  Discofox
DTSTART:20260415T180000
DTEND:20260415T193000
DESCRIPTION:Dozentin: Marie-Lena Kleinmanns Discofox ist mehr als ein Partytanz - in diesem Auffrischungskurs trainieren die Teilnehmenden, wie man sich tänzerisch sicher und stilvol zur Musik bewegt. Naben den Grundschritten frischen sie gemeinsam wichtige Figuren, Drehtechniken und das saubere Führen/Folgen auf. Dabei steht das bewusste Lernen im Vordergrund: Die Tanzenden entwickeln ein besseres Musikgefühl, verbessern ihre Tanzkommunikation und erweitern ihr Bewegungsverständnis. Der Kurs richtet sich an alle, die Discofox nicht nur "irgendwie" tanzen möchten, sondern gezielt Sicherheit, Technik und Freude an der Bewegung vertiefen wollen - ganz ohne Leistungsdruck, aber mit klarer Struktur und viel Spaß vhs 9428 Beginn: 15.04.2026, 6 x mittwochs 18:00 - 19:30 Uhr Begegnungsstätte Mühlenstraße 77,30 EUR (keine Ermäßigung) Eine vorherige Anmeldung im Bürgerbüro der Energiestadt Lichtenau unter 05295-8950 ist erforderlich.
LOCATION:Begegnungsstätte Lichtenau
UID:https://www.lichtenau.de/de/veranstaltungen/termine/vhs-9428-Auffrischungskurs-Discofox.php
URL:https://www.lichtenau.de/de/veranstaltungen/termine/vhs-9428-Auffrischungskurs-Discofox.php
END:VEVENT
BEGIN:VEVENT
SUMMARY:vhs 9428 Auffrischungskurs  Discofox
DTSTART:20260422T180000
DTEND:20260422T193000
DESCRIPTION:Dozentin: Marie-Lena Kleinmanns Discofox ist mehr als ein Partytanz - in diesem Auffrischungskurs trainieren die Teilnehmenden, wie man sich tänzerisch sicher und stilvol zur Musik bewegt. Naben den Grundschritten frischen sie gemeinsam wichtige Figuren, Drehtechniken und das saubere Führen/Folgen auf. Dabei steht das bewusste Lernen im Vordergrund: Die Tanzenden entwickeln ein besseres Musikgefühl, verbessern ihre Tanzkommunikation und erweitern ihr Bewegungsverständnis. Der Kurs richtet sich an alle, die Discofox nicht nur "irgendwie" tanzen möchten, sondern gezielt Sicherheit, Technik und Freude an der Bewegung vertiefen wollen - ganz ohne Leistungsdruck, aber mit klarer Struktur und viel Spaß vhs 9428 Beginn: 15.04.2026, 6 x mittwochs 18:00 - 19:30 Uhr Begegnungsstätte Mühlenstraße 77,30 EUR (keine Ermäßigung) Eine vorherige Anmeldung im Bürgerbüro der Energiestadt Lichtenau unter 05295-8950 ist erforderlich.
LOCATION:Begegnungsstätte Lichtenau
UID:https://www.lichtenau.de/de/veranstaltungen/termine/vhs-9428-Auffrischungskurs-Discofox.php
URL:https://www.lichtenau.de/de/veranstaltungen/termine/vhs-9428-Auffrischungskurs-Discofox.php
END:VEVENT
BEGIN:VEVENT
SUMMARY:vhs 9428 Auffrischungskurs  Discofox
DTSTART:20260429T180000
DTEND:20260429T193000
DESCRIPTION:Dozentin: Marie-Lena Kleinmanns Discofox ist mehr als ein Partytanz - in diesem Auffrischungskurs trainieren die Teilnehmenden, wie man sich tänzerisch sicher und stilvol zur Musik bewegt. Naben den Grundschritten frischen sie gemeinsam wichtige Figuren, Drehtechniken und das saubere Führen/Folgen auf. Dabei steht das bewusste Lernen im Vordergrund: Die Tanzenden entwickeln ein besseres Musikgefühl, verbessern ihre Tanzkommunikation und erweitern ihr Bewegungsverständnis. Der Kurs richtet sich an alle, die Discofox nicht nur "irgendwie" tanzen möchten, sondern gezielt Sicherheit, Technik und Freude an der Bewegung vertiefen wollen - ganz ohne Leistungsdruck, aber mit klarer Struktur und viel Spaß vhs 9428 Beginn: 15.04.2026, 6 x mittwochs 18:00 - 19:30 Uhr Begegnungsstätte Mühlenstraße 77,30 EUR (keine Ermäßigung) Eine vorherige Anmeldung im Bürgerbüro der Energiestadt Lichtenau unter 05295-8950 ist erforderlich.
LOCATION:Begegnungsstätte Lichtenau
UID:https://www.lichtenau.de/de/veranstaltungen/termine/vhs-9428-Auffrischungskurs-Discofox.php
URL:https://www.lichtenau.de/de/veranstaltungen/termine/vhs-9428-Auffrischungskurs-Discofox.php
END:VEVENT
BEGIN:VEVENT
SUMMARY:vhs 9428 Auffrischungskurs  Discofox
DTSTART:20260506T180000
DTEND:20260506T193000
DESCRIPTION:Dozentin: Marie-Lena Kleinmanns Discofox ist mehr als ein Partytanz - in diesem Auffrischungskurs trainieren die Teilnehmenden, wie man sich tänzerisch sicher und stilvol zur Musik bewegt. Naben den Grundschritten frischen sie gemeinsam wichtige Figuren, Drehtechniken und das saubere Führen/Folgen auf. Dabei steht das bewusste Lernen im Vordergrund: Die Tanzenden entwickeln ein besseres Musikgefühl, verbessern ihre Tanzkommunikation und erweitern ihr Bewegungsverständnis. Der Kurs richtet sich an alle, die Discofox nicht nur "irgendwie" tanzen möchten, sondern gezielt Sicherheit, Technik und Freude an der Bewegung vertiefen wollen - ganz ohne Leistungsdruck, aber mit klarer Struktur und viel Spaß vhs 9428 Beginn: 15.04.2026, 6 x mittwochs 18:00 - 19:30 Uhr Begegnungsstätte Mühlenstraße 77,30 EUR (keine Ermäßigung) Eine vorherige Anmeldung im Bürgerbüro der Energiestadt Lichtenau unter 05295-8950 ist erforderlich.
LOCATION:Begegnungsstätte Lichtenau
UID:https://www.lichtenau.de/de/veranstaltungen/termine/vhs-9428-Auffrischungskurs-Discofox.php
URL:https://www.lichtenau.de/de/veranstaltungen/termine/vhs-9428-Auffrischungskurs-Discofox.php
END:VEVENT
BEGIN:VEVENT
SUMMARY:vhs 9428 Auffrischungskurs  Discofox
DTSTART:20260513T180000
DTEND:20260513T193000
DESCRIPTION:Dozentin: Marie-Lena Kleinmanns Discofox ist mehr als ein Partytanz - in diesem Auffrischungskurs trainieren die Teilnehmenden, wie man sich tänzerisch sicher und stilvol zur Musik bewegt. Naben den Grundschritten frischen sie gemeinsam wichtige Figuren, Drehtechniken und das saubere Führen/Folgen auf. Dabei steht das bewusste Lernen im Vordergrund: Die Tanzenden entwickeln ein besseres Musikgefühl, verbessern ihre Tanzkommunikation und erweitern ihr Bewegungsverständnis. Der Kurs richtet sich an alle, die Discofox nicht nur "irgendwie" tanzen möchten, sondern gezielt Sicherheit, Technik und Freude an der Bewegung vertiefen wollen - ganz ohne Leistungsdruck, aber mit klarer Struktur und viel Spaß vhs 9428 Beginn: 15.04.2026, 6 x mittwochs 18:00 - 19:30 Uhr Begegnungsstätte Mühlenstraße 77,30 EUR (keine Ermäßigung) Eine vorherige Anmeldung im Bürgerbüro der Energiestadt Lichtenau unter 05295-8950 ist erforderlich.
LOCATION:Begegnungsstätte Lichtenau
UID:https://www.lichtenau.de/de/veranstaltungen/termine/vhs-9428-Auffrischungskurs-Discofox.php
URL:https://www.lichtenau.de/de/veranstaltungen/termine/vhs-9428-Auffrischungskurs-Discofox.php
END:VEVENT
BEGIN:VEVENT
SUMMARY:vhs 9428 Auffrischungskurs  Discofox
DTSTART:20260520T180000
DTEND:20260520T193000
DESCRIPTION:Dozentin: Marie-Lena Kleinmanns Discofox ist mehr als ein Partytanz - in diesem Auffrischungskurs trainieren die Teilnehmenden, wie man sich tänzerisch sicher und stilvol zur Musik bewegt. Naben den Grundschritten frischen sie gemeinsam wichtige Figuren, Drehtechniken und das saubere Führen/Folgen auf. Dabei steht das bewusste Lernen im Vordergrund: Die Tanzenden entwickeln ein besseres Musikgefühl, verbessern ihre Tanzkommunikation und erweitern ihr Bewegungsverständnis. Der Kurs richtet sich an alle, die Discofox nicht nur "irgendwie" tanzen möchten, sondern gezielt Sicherheit, Technik und Freude an der Bewegung vertiefen wollen - ganz ohne Leistungsdruck, aber mit klarer Struktur und viel Spaß vhs 9428 Beginn: 15.04.2026, 6 x mittwochs 18:00 - 19:30 Uhr Begegnungsstätte Mühlenstraße 77,30 EUR (keine Ermäßigung) Eine vorherige Anmeldung im Bürgerbüro der Energiestadt Lichtenau unter 05295-8950 ist erforderlich.
LOCATION:Begegnungsstätte Lichtenau
UID:https://www.lichtenau.de/de/veranstaltungen/termine/vhs-9428-Auffrischungskurs-Discofox.php
URL:https://www.lichtenau.de/de/veranstaltungen/termine/vhs-9428-Auffrischungskurs-Discofox.php
END:VEVENT
BEGIN:VEVENT
SUMMARY:vhs 9428 Auffrischungskurs  Discofox
DTSTART:20260527T180000
DTEND:20260527T193000
DESCRIPTION:Dozentin: Marie-Lena Kleinmanns Discofox ist mehr als ein Partytanz - in diesem Auffrischungskurs trainieren die Teilnehmenden, wie man sich tänzerisch sicher und stilvol zur Musik bewegt. Naben den Grundschritten frischen sie gemeinsam wichtige Figuren, Drehtechniken und das saubere Führen/Folgen auf. Dabei steht das bewusste Lernen im Vordergrund: Die Tanzenden entwickeln ein besseres Musikgefühl, verbessern ihre Tanzkommunikation und erweitern ihr Bewegungsverständnis. Der Kurs richtet sich an alle, die Discofox nicht nur "irgendwie" tanzen möchten, sondern gezielt Sicherheit, Technik und Freude an der Bewegung vertiefen wollen - ganz ohne Leistungsdruck, aber mit klarer Struktur und viel Spaß vhs 9428 Beginn: 15.04.2026, 6 x mittwochs 18:00 - 19:30 Uhr Begegnungsstätte Mühlenstraße 77,30 EUR (keine Ermäßigung) Eine vorherige Anmeldung im Bürgerbüro der Energiestadt Lichtenau unter 05295-8950 ist erforderlich.
LOCATION:Begegnungsstätte Lichtenau
UID:https://www.lichtenau.de/de/veranstaltungen/termine/vhs-9428-Auffrischungskurs-Discofox.php
URL:https://www.lichtenau.de/de/veranstaltungen/termine/vhs-9428-Auffrischungskurs-Discofox.php
END:VEVENT
END:VCALENDAR