BEGIN:VCALENDAR
METHOD:PUBLISH
PRODID:-//Weblication CMS
VERSION:2.0
BEGIN:VEVENT
SUMMARY:vhs 9429 Einstiegkurs Salsa / Bachata
DTSTART:20260415T194500
DTEND:20260415T211500
DESCRIPTION:Dozentin: Marie-Lena Kleinmanns Salsa und Bachata - das ist pure Lebensfreude und Leidenschaft! Mit einer Mischung aus dynamischen Salsa-Schritten und sinnlichen Bachata-Bewegungen tauchen Sie in zwei mitreißende Tanzwelten ein. Der Kurs vermittelt die Grundlagen beider Tänze, zeigt, wie man im Paar tanzt, führt und folgt, und lässt Raum für Kreativität und Ausdruck. Begleitet von rhythmischer und gefühlvoller Musik entwickeln die Tanzenden ein Gespür für Harmonie und Bewegung. Ganz nebenbei stärken sie Gesundheit, Körpergefühl und Wohlbefinden. vhs 9429 Beginn: 15.04.2026, 6 x mittwochs 19:40 - 21:10 Uhr Begegnungsstätte Mühlenstraße 77,30 EUR (keine Ermäßigung) Eine vorherige Anmeldung im Bürgerbüro der Energiestadt Lichtenau unter 05295-8950 ist erforderlich. 
LOCATION:Begegnungsstätte Lichtenau
UID:https://www.lichtenau.de/de/veranstaltungen/termine/vhs-9429-Einstiegkurs-Salsa-Bachata.php
URL:https://www.lichtenau.de/de/veranstaltungen/termine/vhs-9429-Einstiegkurs-Salsa-Bachata.php
END:VEVENT
BEGIN:VEVENT
SUMMARY:vhs 9429 Einstiegkurs Salsa / Bachata
DTSTART:20260422T194500
DTEND:20260422T211500
DESCRIPTION:Dozentin: Marie-Lena Kleinmanns Salsa und Bachata - das ist pure Lebensfreude und Leidenschaft! Mit einer Mischung aus dynamischen Salsa-Schritten und sinnlichen Bachata-Bewegungen tauchen Sie in zwei mitreißende Tanzwelten ein. Der Kurs vermittelt die Grundlagen beider Tänze, zeigt, wie man im Paar tanzt, führt und folgt, und lässt Raum für Kreativität und Ausdruck. Begleitet von rhythmischer und gefühlvoller Musik entwickeln die Tanzenden ein Gespür für Harmonie und Bewegung. Ganz nebenbei stärken sie Gesundheit, Körpergefühl und Wohlbefinden. vhs 9429 Beginn: 15.04.2026, 6 x mittwochs 19:40 - 21:10 Uhr Begegnungsstätte Mühlenstraße 77,30 EUR (keine Ermäßigung) Eine vorherige Anmeldung im Bürgerbüro der Energiestadt Lichtenau unter 05295-8950 ist erforderlich. 
LOCATION:Begegnungsstätte Lichtenau
UID:https://www.lichtenau.de/de/veranstaltungen/termine/vhs-9429-Einstiegkurs-Salsa-Bachata.php
URL:https://www.lichtenau.de/de/veranstaltungen/termine/vhs-9429-Einstiegkurs-Salsa-Bachata.php
END:VEVENT
BEGIN:VEVENT
SUMMARY:vhs 9429 Einstiegkurs Salsa / Bachata
DTSTART:20260429T194500
DTEND:20260429T211500
DESCRIPTION:Dozentin: Marie-Lena Kleinmanns Salsa und Bachata - das ist pure Lebensfreude und Leidenschaft! Mit einer Mischung aus dynamischen Salsa-Schritten und sinnlichen Bachata-Bewegungen tauchen Sie in zwei mitreißende Tanzwelten ein. Der Kurs vermittelt die Grundlagen beider Tänze, zeigt, wie man im Paar tanzt, führt und folgt, und lässt Raum für Kreativität und Ausdruck. Begleitet von rhythmischer und gefühlvoller Musik entwickeln die Tanzenden ein Gespür für Harmonie und Bewegung. Ganz nebenbei stärken sie Gesundheit, Körpergefühl und Wohlbefinden. vhs 9429 Beginn: 15.04.2026, 6 x mittwochs 19:40 - 21:10 Uhr Begegnungsstätte Mühlenstraße 77,30 EUR (keine Ermäßigung) Eine vorherige Anmeldung im Bürgerbüro der Energiestadt Lichtenau unter 05295-8950 ist erforderlich. 
LOCATION:Begegnungsstätte Lichtenau
UID:https://www.lichtenau.de/de/veranstaltungen/termine/vhs-9429-Einstiegkurs-Salsa-Bachata.php
URL:https://www.lichtenau.de/de/veranstaltungen/termine/vhs-9429-Einstiegkurs-Salsa-Bachata.php
END:VEVENT
BEGIN:VEVENT
SUMMARY:vhs 9429 Einstiegkurs Salsa / Bachata
DTSTART:20260506T194500
DTEND:20260506T211500
DESCRIPTION:Dozentin: Marie-Lena Kleinmanns Salsa und Bachata - das ist pure Lebensfreude und Leidenschaft! Mit einer Mischung aus dynamischen Salsa-Schritten und sinnlichen Bachata-Bewegungen tauchen Sie in zwei mitreißende Tanzwelten ein. Der Kurs vermittelt die Grundlagen beider Tänze, zeigt, wie man im Paar tanzt, führt und folgt, und lässt Raum für Kreativität und Ausdruck. Begleitet von rhythmischer und gefühlvoller Musik entwickeln die Tanzenden ein Gespür für Harmonie und Bewegung. Ganz nebenbei stärken sie Gesundheit, Körpergefühl und Wohlbefinden. vhs 9429 Beginn: 15.04.2026, 6 x mittwochs 19:40 - 21:10 Uhr Begegnungsstätte Mühlenstraße 77,30 EUR (keine Ermäßigung) Eine vorherige Anmeldung im Bürgerbüro der Energiestadt Lichtenau unter 05295-8950 ist erforderlich. 
LOCATION:Begegnungsstätte Lichtenau
UID:https://www.lichtenau.de/de/veranstaltungen/termine/vhs-9429-Einstiegkurs-Salsa-Bachata.php
URL:https://www.lichtenau.de/de/veranstaltungen/termine/vhs-9429-Einstiegkurs-Salsa-Bachata.php
END:VEVENT
BEGIN:VEVENT
SUMMARY:vhs 9429 Einstiegkurs Salsa / Bachata
DTSTART:20260513T194500
DTEND:20260513T211500
DESCRIPTION:Dozentin: Marie-Lena Kleinmanns Salsa und Bachata - das ist pure Lebensfreude und Leidenschaft! Mit einer Mischung aus dynamischen Salsa-Schritten und sinnlichen Bachata-Bewegungen tauchen Sie in zwei mitreißende Tanzwelten ein. Der Kurs vermittelt die Grundlagen beider Tänze, zeigt, wie man im Paar tanzt, führt und folgt, und lässt Raum für Kreativität und Ausdruck. Begleitet von rhythmischer und gefühlvoller Musik entwickeln die Tanzenden ein Gespür für Harmonie und Bewegung. Ganz nebenbei stärken sie Gesundheit, Körpergefühl und Wohlbefinden. vhs 9429 Beginn: 15.04.2026, 6 x mittwochs 19:40 - 21:10 Uhr Begegnungsstätte Mühlenstraße 77,30 EUR (keine Ermäßigung) Eine vorherige Anmeldung im Bürgerbüro der Energiestadt Lichtenau unter 05295-8950 ist erforderlich. 
LOCATION:Begegnungsstätte Lichtenau
UID:https://www.lichtenau.de/de/veranstaltungen/termine/vhs-9429-Einstiegkurs-Salsa-Bachata.php
URL:https://www.lichtenau.de/de/veranstaltungen/termine/vhs-9429-Einstiegkurs-Salsa-Bachata.php
END:VEVENT
BEGIN:VEVENT
SUMMARY:vhs 9429 Einstiegkurs Salsa / Bachata
DTSTART:20260520T194500
DTEND:20260520T211500
DESCRIPTION:Dozentin: Marie-Lena Kleinmanns Salsa und Bachata - das ist pure Lebensfreude und Leidenschaft! Mit einer Mischung aus dynamischen Salsa-Schritten und sinnlichen Bachata-Bewegungen tauchen Sie in zwei mitreißende Tanzwelten ein. Der Kurs vermittelt die Grundlagen beider Tänze, zeigt, wie man im Paar tanzt, führt und folgt, und lässt Raum für Kreativität und Ausdruck. Begleitet von rhythmischer und gefühlvoller Musik entwickeln die Tanzenden ein Gespür für Harmonie und Bewegung. Ganz nebenbei stärken sie Gesundheit, Körpergefühl und Wohlbefinden. vhs 9429 Beginn: 15.04.2026, 6 x mittwochs 19:40 - 21:10 Uhr Begegnungsstätte Mühlenstraße 77,30 EUR (keine Ermäßigung) Eine vorherige Anmeldung im Bürgerbüro der Energiestadt Lichtenau unter 05295-8950 ist erforderlich. 
LOCATION:Begegnungsstätte Lichtenau
UID:https://www.lichtenau.de/de/veranstaltungen/termine/vhs-9429-Einstiegkurs-Salsa-Bachata.php
URL:https://www.lichtenau.de/de/veranstaltungen/termine/vhs-9429-Einstiegkurs-Salsa-Bachata.php
END:VEVENT
BEGIN:VEVENT
SUMMARY:vhs 9429 Einstiegkurs Salsa / Bachata
DTSTART:20260527T194500
DTEND:20260527T211500
DESCRIPTION:Dozentin: Marie-Lena Kleinmanns Salsa und Bachata - das ist pure Lebensfreude und Leidenschaft! Mit einer Mischung aus dynamischen Salsa-Schritten und sinnlichen Bachata-Bewegungen tauchen Sie in zwei mitreißende Tanzwelten ein. Der Kurs vermittelt die Grundlagen beider Tänze, zeigt, wie man im Paar tanzt, führt und folgt, und lässt Raum für Kreativität und Ausdruck. Begleitet von rhythmischer und gefühlvoller Musik entwickeln die Tanzenden ein Gespür für Harmonie und Bewegung. Ganz nebenbei stärken sie Gesundheit, Körpergefühl und Wohlbefinden. vhs 9429 Beginn: 15.04.2026, 6 x mittwochs 19:40 - 21:10 Uhr Begegnungsstätte Mühlenstraße 77,30 EUR (keine Ermäßigung) Eine vorherige Anmeldung im Bürgerbüro der Energiestadt Lichtenau unter 05295-8950 ist erforderlich. 
LOCATION:Begegnungsstätte Lichtenau
UID:https://www.lichtenau.de/de/veranstaltungen/termine/vhs-9429-Einstiegkurs-Salsa-Bachata.php
URL:https://www.lichtenau.de/de/veranstaltungen/termine/vhs-9429-Einstiegkurs-Salsa-Bachata.php
END:VEVENT
END:VCALENDAR